BEGIN:VCALENDAR
VERSION:2.0
PRODID:-//Klimaat Kwartet - ECPv4.9.13//NONSGML v1.0//EN
CALSCALE:GREGORIAN
METHOD:PUBLISH
X-WR-CALNAME:Klimaat Kwartet
X-ORIGINAL-URL:https://klimaatkwartet.nl
X-WR-CALDESC:Events for Klimaat Kwartet
BEGIN:VTIMEZONE
TZID:UTC
BEGIN:STANDARD
TZOFFSETFROM:+0000
TZOFFSETTO:+0000
TZNAME:UTC
DTSTART:20220101T000000
END:STANDARD
END:VTIMEZONE
BEGIN:VEVENT
DTSTART;VALUE=DATE:20220711
DTEND;VALUE=DATE:20220712
DTSTAMP:20260422T041021
CREATED:20200328T192355Z
LAST-MODIFIED:20210613T150249Z
UID:684-1657497600-1657583999@klimaatkwartet.nl
SUMMARY:Wereld Bevolkings Dag
DESCRIPTION:Deze dag staat in het teken van de hoeveelheid mensen die op aarde leven. Dat zijn er nu ongeveer 7 miljard. Op deze dag is er aandacht voor de bevolkingsgroei van mensen op aarde en de impact die dat heeft. \nBron: https://www.beleven.org/feest/wereldbevolkingsdag\n  \n
URL:https://klimaatkwartet.nl/event/wereld-bevolkings-dag/
END:VEVENT
END:VCALENDAR