BEGIN:VCALENDAR
VERSION:2.0
PRODID:-//Klimaat Kwartet - ECPv4.9.13//NONSGML v1.0//EN
CALSCALE:GREGORIAN
METHOD:PUBLISH
X-WR-CALNAME:Klimaat Kwartet
X-ORIGINAL-URL:https://klimaatkwartet.nl
X-WR-CALDESC:Events for Klimaat Kwartet
BEGIN:VTIMEZONE
TZID:UTC
BEGIN:STANDARD
TZOFFSETFROM:+0000
TZOFFSETTO:+0000
TZNAME:UTC
DTSTART:20220101T000000
END:STANDARD
END:VTIMEZONE
BEGIN:VEVENT
DTSTART;VALUE=DATE:20220425
DTEND;VALUE=DATE:20220426
DTSTAMP:20260422T071716
CREATED:20181223T193855Z
LAST-MODIFIED:20210613T151815Z
UID:741-1650844800-1650931199@klimaatkwartet.nl
SUMMARY:Wereld Pinguin Dag
DESCRIPTION:Op 25 april is het Wereld Pinguin Dag. Organisaties als Greenpeace besteden hier aandacht aan. (In Amerika is het op 20 januari Penguin Awareness Day.) \nHoe vier je Pinguïn Dag?\n“​Je hoeft vandaag echt niet verkleed als een pinguïn naar je werk of school te gaan of de hele dag te lopen als een pinguïn\, tenzij je dat echt graag wilt. Je kan natuurlijk de dierentuin een bezoekje brengen of een film met en/of over pinguïns kijken. Ik heb een top 5 voor je: \n\nHappy Feet 2 (trailer)\nMr Popper’s Pinguïns (trailer)\nMars van de Pinguïns (trailer)\nSurf’s Up (trailer)\nDe Pinguïns van Madagaskar (trailer)”\n\n\nBron: Issuekalender\nBron afbeelding: Tutortime\n
URL:https://klimaatkwartet.nl/event/wereld-pinguin-dag/
ATTACH;FMTTYPE=image/jpeg:https://klimaatkwartet.nl/wp-content/uploads/2018/12/penguinday.jpg
END:VEVENT
END:VCALENDAR