BEGIN:VCALENDAR
VERSION:2.0
PRODID:-//Klimaat Kwartet - ECPv4.9.13//NONSGML v1.0//EN
CALSCALE:GREGORIAN
METHOD:PUBLISH
X-WR-CALNAME:Klimaat Kwartet
X-ORIGINAL-URL:https://klimaatkwartet.nl
X-WR-CALDESC:Events for Klimaat Kwartet
BEGIN:VTIMEZONE
TZID:UTC
BEGIN:STANDARD
TZOFFSETFROM:+0000
TZOFFSETTO:+0000
TZNAME:UTC
DTSTART:20220101T000000
END:STANDARD
END:VTIMEZONE
BEGIN:VEVENT
DTSTART;VALUE=DATE:20220422
DTEND;VALUE=DATE:20220423
DTSTAMP:20260422T084509
CREATED:20181220T191652Z
LAST-MODIFIED:20210613T152237Z
UID:592-1650585600-1650671999@klimaatkwartet.nl
SUMMARY:Dag van de Aarde
DESCRIPTION:Op de Dag van de Aarde staan we stil bij wat de aarde ons allemaal geeft en hoe mooi de natuur is. Het is ook een internationale dag\, genaamd: Earth Day. Ook in andere landen wordt deze dag dus gevierd. De eerste keer dat Earth Day werd gevierd was al in 1970. Omdat mensen het belangrijk vonden om de aarde te beschermen tegen vervuiling. Sindsdien vieren we op 22 april de Dag van de Aarde. Er zijn dan allerlei activiteiten te doen in Nederland. \nBron: Wikipedia (Nederlands)\nBron: Dag van de Aarde (Nederlands)\nBron: Earth Day (Engels)\nBron: Verenigde Naties (Engels)\n
URL:https://klimaatkwartet.nl/event/dag-van-de-aarde/
ATTACH;FMTTYPE=image/png:https://klimaatkwartet.nl/wp-content/uploads/2018/12/Dag-van-de-aarde_Schermafbeelding-2018-12-20-om-20.17.47.png
END:VEVENT
BEGIN:VEVENT
DTSTART;VALUE=DATE:20220422
DTEND;VALUE=DATE:20220423
DTSTAMP:20260422T084509
CREATED:20181220T193534Z
LAST-MODIFIED:20210613T152147Z
UID:597-1650585600-1650671999@klimaatkwartet.nl
SUMMARY:Landelijke Zaaidag
DESCRIPTION:Op 22 april is het weer Landelijke Zaaidag. Stichting Bijenvrienden en de Bijenstichting roepen voor de 5e keer mensen\, gemeenten\, boeren\, scholen en andere grondbezitters op om bloemstroken aan te leggen zodat er één groot bloemenlint voor bijen ontstaat. Op de website van Bijenlint kun je zaad voor akkerbloemen kopen\, maar je kunt natuurlijk ook ergens anders bloemenzaad halen. \nBron: Bijenstichting\n  \n  \n  \n
URL:https://klimaatkwartet.nl/event/landelijke-zaaidag/
ATTACH;FMTTYPE=image/jpeg:https://klimaatkwartet.nl/wp-content/uploads/2018/12/nationale-zaaidag-2021-184x260-1.jpeg
END:VEVENT
END:VCALENDAR