BEGIN:VCALENDAR
VERSION:2.0
PRODID:-//Klimaat Kwartet - ECPv4.9.13//NONSGML v1.0//EN
CALSCALE:GREGORIAN
METHOD:PUBLISH
X-WR-CALNAME:Klimaat Kwartet
X-ORIGINAL-URL:https://klimaatkwartet.nl
X-WR-CALDESC:Events for Klimaat Kwartet
BEGIN:VTIMEZONE
TZID:UTC
BEGIN:STANDARD
TZOFFSETFROM:+0000
TZOFFSETTO:+0000
TZNAME:UTC
DTSTART:20220101T000000
END:STANDARD
END:VTIMEZONE
BEGIN:VEVENT
DTSTART;VALUE=DATE:20220407
DTEND;VALUE=DATE:20220408
DTSTAMP:20260422T084304
CREATED:20181223T194429Z
LAST-MODIFIED:20210613T153800Z
UID:743-1649289600-1649375999@klimaatkwartet.nl
SUMMARY:Wandel naar je Werk Dag
DESCRIPTION:Op donderdag 7 april 2022 wordt de Wandel naar je Werk Dag georganiseerd. Deze nationale actie roept iedereen in Nederland op om (een deel van de afstand) naar het werk te lopen. Van bus naar bureau of van voor- naar kantoordeur. \nBron: Wandelnet (Nederlands \n  \n  \n
URL:https://klimaatkwartet.nl/event/wandel-naar-je-werk-dag/
ATTACH;FMTTYPE=image/png:https://klimaatkwartet.nl/wp-content/uploads/2018/12/wandel-naar-werkdag-20-schaduw-02.png
END:VEVENT
END:VCALENDAR