BEGIN:VCALENDAR
VERSION:2.0
PRODID:-//Klimaat Kwartet - ECPv4.9.13//NONSGML v1.0//EN
CALSCALE:GREGORIAN
METHOD:PUBLISH
X-WR-CALNAME:Klimaat Kwartet
X-ORIGINAL-URL:https://klimaatkwartet.nl
X-WR-CALDESC:Events for Klimaat Kwartet
BEGIN:VTIMEZONE
TZID:UTC
BEGIN:STANDARD
TZOFFSETFROM:+0000
TZOFFSETTO:+0000
TZNAME:UTC
DTSTART:20220101T000000
END:STANDARD
END:VTIMEZONE
BEGIN:VEVENT
DTSTART;VALUE=DATE:20220322
DTEND;VALUE=DATE:20220323
DTSTAMP:20260422T102341
CREATED:20181223T213342Z
LAST-MODIFIED:20210613T154722Z
UID:786-1647907200-1647993599@klimaatkwartet.nl
SUMMARY:Internationale Zeehonden Dag
DESCRIPTION:22 maart is het internationale zeehonden dag. Een dag om de bescherming van zeehonden te promoten en te vieren. \nBron: nationaldaycalender.com\n  \n  \n
URL:https://klimaatkwartet.nl/event/internationale-zeehonden-dag/
ATTACH;FMTTYPE=image/jpeg:https://klimaatkwartet.nl/wp-content/uploads/2018/12/dayseal.jpeg
END:VEVENT
END:VCALENDAR