BEGIN:VCALENDAR
VERSION:2.0
PRODID:-//Klimaat Kwartet - ECPv4.9.13//NONSGML v1.0//EN
CALSCALE:GREGORIAN
METHOD:PUBLISH
X-WR-CALNAME:Klimaat Kwartet
X-ORIGINAL-URL:https://klimaatkwartet.nl
X-WR-CALDESC:Events for Klimaat Kwartet
BEGIN:VTIMEZONE
TZID:UTC
BEGIN:STANDARD
TZOFFSETFROM:+0000
TZOFFSETTO:+0000
TZNAME:UTC
DTSTART:20220101T000000
END:STANDARD
END:VTIMEZONE
BEGIN:VEVENT
DTSTART;VALUE=DATE:20220319
DTEND;VALUE=DATE:20220320
DTSTAMP:20260422T102408
CREATED:20181220T210225Z
LAST-MODIFIED:20210613T145729Z
UID:637-1647648000-1647734399@klimaatkwartet.nl
SUMMARY:Landelijke Opschoondag
DESCRIPTION:In 2022 wordt deze dag op 19 maart gehouden\nOp een speciale website\, kun je de activiteiten op deze dag vinden. \nBron: Nederland Schoon\n  \nNb. Er is ook een internationale ‘Clean up Day’\, maar die wordt op een andere datum gehouden: op iedere derde zaterdag in september.\nBron: World Cleanup Day \n  \n  \n  \n
URL:https://klimaatkwartet.nl/event/landelijke-opschoondag/
ATTACH;FMTTYPE=image/png:https://klimaatkwartet.nl/wp-content/uploads/2018/12/landelijke-opschoondag.png
END:VEVENT
END:VCALENDAR