BEGIN:VCALENDAR
VERSION:2.0
PRODID:-//Klimaat Kwartet - ECPv4.9.13//NONSGML v1.0//EN
CALSCALE:GREGORIAN
METHOD:PUBLISH
X-WR-CALNAME:Klimaat Kwartet
X-ORIGINAL-URL:https://klimaatkwartet.nl
X-WR-CALDESC:Events for Klimaat Kwartet
BEGIN:VTIMEZONE
TZID:UTC
BEGIN:STANDARD
TZOFFSETFROM:+0000
TZOFFSETTO:+0000
TZNAME:UTC
DTSTART:20210101T000000
END:STANDARD
END:VTIMEZONE
BEGIN:VEVENT
DTSTART;VALUE=DATE:20211205
DTEND;VALUE=DATE:20211206
DTSTAMP:20260422T151745
CREATED:20181223T215416Z
LAST-MODIFIED:20210613T155003Z
UID:794-1638662400-1638748799@klimaatkwartet.nl
SUMMARY:Wereld Bodem Dag
DESCRIPTION:Op 5 december is het Wereld Bodem Dag. De dag waarop wereldwijd vele organisaties aandacht vragen voor onze bodem en waarom een goede bodem zo belangrijk is. \nBron: Staatsbosbeheer.nl (Nederlands)\nBron: Verenigde Naties (Engels)\nBron: Food and Agriculture Organization VN (Engels)\n
URL:https://klimaatkwartet.nl/event/wereld-bodem-dag/
ATTACH;FMTTYPE=image/jpeg:https://klimaatkwartet.nl/wp-content/uploads/2018/12/worldsoilday.jpg
END:VEVENT
END:VCALENDAR