BEGIN:VCALENDAR
VERSION:2.0
PRODID:-//Klimaat Kwartet - ECPv4.9.13//NONSGML v1.0//EN
CALSCALE:GREGORIAN
METHOD:PUBLISH
X-WR-CALNAME:Klimaat Kwartet
X-ORIGINAL-URL:https://klimaatkwartet.nl
X-WR-CALDESC:Events for Klimaat Kwartet
BEGIN:VTIMEZONE
TZID:UTC
BEGIN:STANDARD
TZOFFSETFROM:+0000
TZOFFSETTO:+0000
TZNAME:UTC
DTSTART:20210101T000000
END:STANDARD
END:VTIMEZONE
BEGIN:VEVENT
DTSTART;VALUE=DATE:20211105
DTEND;VALUE=DATE:20211107
DTSTAMP:20260422T165545
CREATED:20181223T212812Z
LAST-MODIFIED:20210613T155313Z
UID:782-1636070400-1636243199@klimaatkwartet.nl
SUMMARY:Natuurwerkdag
DESCRIPTION:Elke eerste zaterdag en zondag van november is het Natuurwerkdag. In 2021 is dat dus op 5 en 6 november. Die dag werken veel mensen\, volwassenen en kinderen\, aan het behoud en herstel van de natuur en het landschap. Je kunt bijvoorbeeld zagen\, snoeien\, hooien en wilgen knotten. \nBron: natuurwerkdag.nl \n  \n
URL:https://klimaatkwartet.nl/event/782/
ATTACH;FMTTYPE=image/png:https://klimaatkwartet.nl/wp-content/uploads/2018/12/Natuurwerkdag_Schermafbeelding-2018-12-23-om-22.21.27.png
END:VEVENT
END:VCALENDAR