BEGIN:VCALENDAR
VERSION:2.0
PRODID:-//Klimaat Kwartet - ECPv4.9.13//NONSGML v1.0//EN
CALSCALE:GREGORIAN
METHOD:PUBLISH
X-WR-CALNAME:Klimaat Kwartet
X-ORIGINAL-URL:https://klimaatkwartet.nl
X-WR-CALDESC:Events for Klimaat Kwartet
BEGIN:VTIMEZONE
TZID:UTC
BEGIN:STANDARD
TZOFFSETFROM:+0000
TZOFFSETTO:+0000
TZNAME:UTC
DTSTART:20200101T000000
END:STANDARD
END:VTIMEZONE
BEGIN:VEVENT
DTSTART;VALUE=DATE:20200322
DTEND;VALUE=DATE:20200323
DTSTAMP:20260423T232837
CREATED:20181220T165635Z
LAST-MODIFIED:20191201T214142Z
UID:537-1584835200-1584921599@klimaatkwartet.nl
SUMMARY:Wereld Water Dag
DESCRIPTION:De jaarlijkse Wereld Water Dag is een internationale dag in het teken van water. In 2020 staat de dag in het teken van Water & Klimaatverandering. \nBron: Wikipedia (Nederlands)\nVoor de activiteiten in Nederland\, bezoek deze website.\nVoor de internationale website\, klik hier. (Engels)\n  \n  \n  \n  \n
URL:https://klimaatkwartet.nl/event/wereld-water-dag/
ATTACH;FMTTYPE=image/png:https://klimaatkwartet.nl/wp-content/uploads/2018/12/WWD-GENERIQ-CMJN_DUTCH_2017_square-01_350.png
END:VEVENT
END:VCALENDAR