BEGIN:VCALENDAR
VERSION:2.0
PRODID:-//Klimaat Kwartet - ECPv4.9.13//NONSGML v1.0//EN
CALSCALE:GREGORIAN
METHOD:PUBLISH
X-WR-CALNAME:Klimaat Kwartet
X-ORIGINAL-URL:https://klimaatkwartet.nl
X-WR-CALDESC:Events for Klimaat Kwartet
BEGIN:VTIMEZONE
TZID:UTC
BEGIN:STANDARD
TZOFFSETFROM:+0000
TZOFFSETTO:+0000
TZNAME:UTC
DTSTART:20190101T000000
END:STANDARD
END:VTIMEZONE
BEGIN:VEVENT
DTSTART;VALUE=DATE:20190916
DTEND;VALUE=DATE:20190917
DTSTAMP:20260424T075207
CREATED:20181223T161547Z
LAST-MODIFIED:20181223T161603Z
UID:717-1568592000-1568678399@klimaatkwartet.nl
SUMMARY:Internationale Dag voor het Behoud van de Ozonlaag
DESCRIPTION:World Ozon Day wordt elk jaar gehouden op 16 september. Sommige chemische stoffen zijn erg slecht voor het milieu\, vooral voor de ozonlaag. Zoals koelstoffen uit koelkasten en vriezers\, maar ook uit airconditioners. De ozonlaag is de laag die ons beschermd tegen teveel schadelijke straling van de zon. \nWat is de ozonlaag? Bron: Willem Wever (Nederlands)\nWikipedia over de ozonlaag (Nederlands)\nBron: Verenigde Naties (Engels)\nBron: Verenigde Naties ‘Environment’ (Engels)\n  \n  \n  \n
URL:https://klimaatkwartet.nl/event/internationale-dag-voor-het-behoud-van-de-ozonlaag/
ATTACH;FMTTYPE=image/jpeg:https://klimaatkwartet.nl/wp-content/uploads/2018/12/ozoneday-2018.jpg
END:VEVENT
BEGIN:VEVENT
DTSTART;TZID=UTC:20190916T080000
DTEND;TZID=UTC:20191122T170000
DTSTAMP:20260424T075207
CREATED:20181223T154427Z
LAST-MODIFIED:20181223T154827Z
UID:707-1568620800-1574442000@klimaatkwartet.nl
SUMMARY:Europese Mobiliteits Week
DESCRIPTION:Elk jaar in september wordt er een Europese mobiliteitsweek gehouden. Dat gaat over allerlei manieren van reizen. In 2018 was het thema ‘Mix en Move’; over andere manieren van reizen. In 2019 zal het thema zijn: veilig fietsen en wandelen. \nBron: Rijkswaterstaat (Nederlands)\nBron: Twitteraccount Mobiliteitsweek (Nederlands)\nBron: Europese Commissie (Engels)\n  \n  \n  \n
URL:https://klimaatkwartet.nl/event/europese-mobiliteits-week/
ATTACH;FMTTYPE=image/jpeg:https://klimaatkwartet.nl/wp-content/uploads/2018/12/europeanmobilityweek.jpg
END:VEVENT
END:VCALENDAR