BEGIN:VCALENDAR
VERSION:2.0
PRODID:-//Klimaat Kwartet - ECPv4.9.13//NONSGML v1.0//EN
CALSCALE:GREGORIAN
METHOD:PUBLISH
X-WR-CALNAME:Klimaat Kwartet
X-ORIGINAL-URL:https://klimaatkwartet.nl
X-WR-CALDESC:Events for Klimaat Kwartet
BEGIN:VTIMEZONE
TZID:UTC
BEGIN:STANDARD
TZOFFSETFROM:+0000
TZOFFSETTO:+0000
TZNAME:UTC
DTSTART:20190101T000000
END:STANDARD
END:VTIMEZONE
BEGIN:VEVENT
DTSTART;TZID=UTC:20190701T080000
DTEND;TZID=UTC:20190731T170000
DTSTAMP:20260424T121703
CREATED:20181220T230320Z
LAST-MODIFIED:20181220T230453Z
UID:685-1561968000-1564592400@klimaatkwartet.nl
SUMMARY:Plastic Dieet
DESCRIPTION:In de maand juli kun je op ‘plastic dieet’ gaan: een maand lang zonder wegwerpproducten. In Nederland heet dat Plastic Dieet. In andere landen noemen ze het Plastic Free July. Want het duurt de hele maand juli. \nBron: Plastic Dieet\nBron: Plastic Free July (Engels)\n
URL:https://klimaatkwartet.nl/event/plastic-dieet/
ATTACH;FMTTYPE=image/png:https://klimaatkwartet.nl/wp-content/uploads/2018/12/pfj-logo-banner-large_orig_medium.png
END:VEVENT
END:VCALENDAR