BEGIN:VCALENDAR
VERSION:2.0
PRODID:-//Klimaat Kwartet - ECPv4.9.13//NONSGML v1.0//EN
CALSCALE:GREGORIAN
METHOD:PUBLISH
X-WR-CALNAME:Klimaat Kwartet
X-ORIGINAL-URL:https://klimaatkwartet.nl
X-WR-CALDESC:Events for Klimaat Kwartet
BEGIN:VTIMEZONE
TZID:UTC
BEGIN:STANDARD
TZOFFSETFROM:+0000
TZOFFSETTO:+0000
TZNAME:UTC
DTSTART:20190101T000000
END:STANDARD
END:VTIMEZONE
BEGIN:VEVENT
DTSTART;TZID=UTC:20190608T080000
DTEND;TZID=UTC:20190616T170000
DTSTAMP:20260424T121844
CREATED:20181220T223753Z
LAST-MODIFIED:20181223T193105Z
UID:674-1559980800-1560704400@klimaatkwartet.nl
SUMMARY:Nationale Tuinweek
DESCRIPTION:Van 8 tot en met 16 juni is de Nationale Tuinweek er weer. Dit wordt georganiseerd door Groei & Bloei\, een landelijke tuinvereniging. \nBron: Groei en Bloei\n
URL:https://klimaatkwartet.nl/event/nationale-tuinweek/
ATTACH;FMTTYPE=image/png:https://klimaatkwartet.nl/wp-content/uploads/2018/12/tuinweek_logo_2018.png
END:VEVENT
END:VCALENDAR