BEGIN:VCALENDAR
VERSION:2.0
PRODID:-//Klimaat Kwartet - ECPv4.9.13//NONSGML v1.0//EN
CALSCALE:GREGORIAN
METHOD:PUBLISH
X-WR-CALNAME:Klimaat Kwartet
X-ORIGINAL-URL:https://klimaatkwartet.nl
X-WR-CALDESC:Events for Klimaat Kwartet
BEGIN:VTIMEZONE
TZID:UTC
BEGIN:STANDARD
TZOFFSETFROM:+0000
TZOFFSETTO:+0000
TZNAME:UTC
DTSTART:20190101T000000
END:STANDARD
END:VTIMEZONE
BEGIN:VEVENT
DTSTART;VALUE=DATE:20190605
DTEND;VALUE=DATE:20190606
DTSTAMP:20260424T121542
CREATED:20181220T215504Z
LAST-MODIFIED:20181223T202857Z
UID:651-1559692800-1559779199@klimaatkwartet.nl
SUMMARY:Wereld Milieu Dag
DESCRIPTION:Deze dag\, op 5 juni\, staat in het teken van een schonere en groenere aarde. De dag wordt sinds 1972 georganiseerd\, omdat toen de internationale milieuconferentie werd georganiseerd. Elk jaar organiseert een ander land de vergadering. In 2018 was het gastland India en was het thema In actie tegen plastic. Het is een international dag\, in het Engels heet deze dag World Environment Day. \nBron: Wikipedia (Nederlands)\nBron: Worldenvironmentday (Engels)\nBron: Verenigde Naties (Engels)\n
URL:https://klimaatkwartet.nl/event/wereld-milieu-dag-world-environment-day/
ATTACH;FMTTYPE=image/png:https://klimaatkwartet.nl/wp-content/uploads/2018/12/World-Environment-Day_Schermafbeelding-2018-12-20-om-22.56.50.png
END:VEVENT
END:VCALENDAR