BEGIN:VCALENDAR
VERSION:2.0
PRODID:-//Klimaat Kwartet - ECPv4.9.13//NONSGML v1.0//EN
CALSCALE:GREGORIAN
METHOD:PUBLISH
X-WR-CALNAME:Klimaat Kwartet
X-ORIGINAL-URL:https://klimaatkwartet.nl
X-WR-CALDESC:Events for Klimaat Kwartet
BEGIN:VTIMEZONE
TZID:UTC
BEGIN:STANDARD
TZOFFSETFROM:+0000
TZOFFSETTO:+0000
TZNAME:UTC
DTSTART:20190101T000000
END:STANDARD
END:VTIMEZONE
BEGIN:VEVENT
DTSTART;VALUE=DATE:20190526
DTEND;VALUE=DATE:20190527
DTSTAMP:20260424T134504
CREATED:20181220T222139Z
LAST-MODIFIED:20181223T194747Z
UID:662-1558828800-1558915199@klimaatkwartet.nl
SUMMARY:Dag van het Park
DESCRIPTION:Op 26 mei wordt de Dag van het Park gevierd. De Dag van het Park is begonnen in België. Daar werd deze dag in 1991 voor het eerst georganiseerd. In Nederland begon de ANWB de Parkdag in 2005. Deze dag wordt altijd op de laatste zondag in mei georganiseerd. In 2019 dus op 26 mei. \nBron: Parkplezier.nl\nBron: Wikipedia\n
URL:https://klimaatkwartet.nl/event/dag-van-het-park/
END:VEVENT
END:VCALENDAR