BEGIN:VCALENDAR
VERSION:2.0
PRODID:-//Klimaat Kwartet - ECPv4.9.13//NONSGML v1.0//EN
CALSCALE:GREGORIAN
METHOD:PUBLISH
X-WR-CALNAME:Klimaat Kwartet
X-ORIGINAL-URL:https://klimaatkwartet.nl
X-WR-CALDESC:Events for Klimaat Kwartet
BEGIN:VTIMEZONE
TZID:UTC
BEGIN:STANDARD
TZOFFSETFROM:+0000
TZOFFSETTO:+0000
TZNAME:UTC
DTSTART:20200101T000000
END:STANDARD
END:VTIMEZONE
BEGIN:VEVENT
DTSTART;VALUE=DATE:20200321
DTEND;VALUE=DATE:20200322
DTSTAMP:20260422T120302
CREATED:20181220T203644Z
LAST-MODIFIED:20191201T213731Z
UID:620-1584748800-1584835199@klimaatkwartet.nl
SUMMARY:Wereld Bossen Dag (International Day of Forests)
DESCRIPTION:Wereld Bossen Dag (in het Engels: International Day of Forests) is een dag die in het teken staat van…. bossen inderdaad!! 🙂 En wordt ieder jaar gehouden op 21 maart. Elk jaar heeft ook een nieuw thema. In 2018 was het thema: Bossen en duurzame steden. In 2019 was het Educatie. Het thema van 2020 is nog niet bekend. Het gaat er in ieder geval om te weten hoe belangrijk bossen en bomen zijn. \nBron: Verenigde Naties (Engels)\nBron: United Nation Forum on Forests (Engels)\nBron: Food and Agriculture Organisation of United Nations (Engels) \n
URL:https://klimaatkwartet.nl/event/werelddag-van-de-bossen/
ATTACH;FMTTYPE=image/jpeg:https://klimaatkwartet.nl/wp-content/uploads/2018/12/enIDFLogo_02.jpg
END:VEVENT
END:VCALENDAR