BEGIN:VCALENDAR
VERSION:2.0
PRODID:-//Klimaat Kwartet - ECPv4.9.13//NONSGML v1.0//EN
CALSCALE:GREGORIAN
METHOD:PUBLISH
X-WR-CALNAME:Klimaat Kwartet
X-ORIGINAL-URL:https://klimaatkwartet.nl
X-WR-CALDESC:Events for Klimaat Kwartet
BEGIN:VTIMEZONE
TZID:UTC
BEGIN:STANDARD
TZOFFSETFROM:+0000
TZOFFSETTO:+0000
TZNAME:UTC
DTSTART:20200101T000000
END:STANDARD
END:VTIMEZONE
BEGIN:VEVENT
DTSTART;VALUE=DATE:20200202
DTEND;VALUE=DATE:20200203
DTSTAMP:20260422T134234
CREATED:20181220T165609Z
LAST-MODIFIED:20191201T211627Z
UID:535-1580601600-1580687999@klimaatkwartet.nl
SUMMARY:Wereld Wetlands Dag
DESCRIPTION:Wereld Wetlands Dag is jaarlijkse dag op 2 februari en is een dag om stil te staan bij waterrijke gebieden. Dat zijn vaak gebieden waar veel (water)vogels en andere dieren leven. Wetlands zijn bijzondere en zeldzame gebieden. Denk aan meren\, vennen\, moerassen\, rivieren\, veengebieden en ondiepe (zee)wateren. Dat soort gebieden zijn heel belangrijk voor het ecosysteem van de aarde. Vandaar dat er een speciale Wereld Wetlands Dag is. \nBron: WorldWetlandsDay (engels)\n  \n  \n  \n  \n
URL:https://klimaatkwartet.nl/event/wereld-wetlands-dag/
ATTACH;FMTTYPE=image/jpeg:https://klimaatkwartet.nl/wp-content/uploads/2018/12/WWD20_logo_E_horiz_rvb.jpg
END:VEVENT
END:VCALENDAR