BEGIN:VCALENDAR
VERSION:2.0
PRODID:-//Klimaat Kwartet - ECPv4.9.13//NONSGML v1.0//EN
CALSCALE:GREGORIAN
METHOD:PUBLISH
X-WR-CALNAME:Klimaat Kwartet
X-ORIGINAL-URL:https://klimaatkwartet.nl
X-WR-CALDESC:Events for Klimaat Kwartet
BEGIN:VTIMEZONE
TZID:UTC
BEGIN:STANDARD
TZOFFSETFROM:+0000
TZOFFSETTO:+0000
TZNAME:UTC
DTSTART:20220101T000000
END:STANDARD
END:VTIMEZONE
BEGIN:VEVENT
DTSTART;VALUE=DATE:20220520
DTEND;VALUE=DATE:20220521
DTSTAMP:20260422T072313
CREATED:20181220T193921Z
LAST-MODIFIED:20210613T152045Z
UID:601-1653004800-1653091199@klimaatkwartet.nl
SUMMARY:Wereld Bijen Dag (World Bee Day)
DESCRIPTION:Op 20 mei is het Wereld Bijen Dag. Bijen zijn heel belangrijk voor de bestuiving van groente en fruit. Ze verdienen daarom een eigen dag. \nBron: Bijenstichting\nBron: World Bee Day (Engels)\nBron: Verenigde Naties (Engels)\n
URL:https://klimaatkwartet.nl/event/wereld-bijen-dag-world-bee-day/
ATTACH;FMTTYPE=image/png:https://klimaatkwartet.nl/wp-content/uploads/2018/12/World-Bee-Day_logo.png
END:VEVENT
END:VCALENDAR