BEGIN:VCALENDAR
VERSION:2.0
PRODID:-//Klimaat Kwartet - ECPv4.9.13//NONSGML v1.0//EN
CALSCALE:GREGORIAN
METHOD:PUBLISH
X-WR-CALNAME:Klimaat Kwartet
X-ORIGINAL-URL:https://klimaatkwartet.nl
X-WR-CALDESC:Events for Klimaat Kwartet
BEGIN:VTIMEZONE
TZID:UTC
BEGIN:STANDARD
TZOFFSETFROM:+0000
TZOFFSETTO:+0000
TZNAME:UTC
DTSTART:20200101T000000
END:STANDARD
END:VTIMEZONE
BEGIN:VEVENT
DTSTART;VALUE=DATE:20200318
DTEND;VALUE=DATE:20200319
DTSTAMP:20260422T120256
CREATED:20181220T204220Z
LAST-MODIFIED:20191201T212621Z
UID:623-1584489600-1584575999@klimaatkwartet.nl
SUMMARY:Nationale Boomfeestdag
DESCRIPTION:Op woensdag 18 maart is het weer Nationale Boomfeestdag. Er worden dan door heel Nederland activiteiten georganiseerd en vaak ook veel bomen geplant! In 2020 wordt er getracht een Nationaal Boomplant Record te behalen. \nVoor je juf of meester is er ook lesmateriaal beschikbaar\, voor de midden-en bovenbouw van de basisschool. \nBron: Nationale Boomfeestdag\nBron: Wikipedia\n  \n  \n  \n
URL:https://klimaatkwartet.nl/event/nationale-boomfeestdag/
ATTACH;FMTTYPE=image/png:https://klimaatkwartet.nl/wp-content/uploads/2018/12/Boomfeestdag-logo.png
END:VEVENT
END:VCALENDAR