BEGIN:VCALENDAR
VERSION:2.0
PRODID:-//Klimaat Kwartet - ECPv4.9.13//NONSGML v1.0//EN
CALSCALE:GREGORIAN
METHOD:PUBLISH
X-WR-CALNAME:Klimaat Kwartet
X-ORIGINAL-URL:https://klimaatkwartet.nl
X-WR-CALDESC:Events for Klimaat Kwartet
BEGIN:VTIMEZONE
TZID:UTC
BEGIN:STANDARD
TZOFFSETFROM:+0000
TZOFFSETTO:+0000
TZNAME:UTC
DTSTART:20190101T000000
END:STANDARD
END:VTIMEZONE
BEGIN:VEVENT
DTSTART;TZID=UTC:20191026T180000
DTEND;TZID=UTC:20191027T060000
DTSTAMP:20260422T151041
CREATED:20181223T211706Z
LAST-MODIFIED:20181223T211753Z
UID:777-1572112800-1572156000@klimaatkwartet.nl
SUMMARY:Nacht van de Nacht
DESCRIPTION:Op zaterdag 26 oktober is het weer de Nacht van de Nacht. Een nacht waarin het donker donker moet zijn. De Nacht van de Nacht wordt georganiseerd door de Natuur- en Milieufederaties. Er worden dan door het hele land honderden evenementen georganiseerd in het donker. Honderden bedrijven en gemeenten doven dan hun lichten van gebouwen en ook de reclameverlichting gaat uit. \nBron: nachtvandenacht.nl\n  \n
URL:https://klimaatkwartet.nl/event/nachtvandenacht/
ATTACH;FMTTYPE=image/jpeg:https://klimaatkwartet.nl/wp-content/uploads/2018/12/logo-NvdN-met-achtergrond-2019-medium.jpg
END:VEVENT
END:VCALENDAR