BEGIN:VCALENDAR
VERSION:2.0
PRODID:-//Klimaat Kwartet - ECPv4.9.13//NONSGML v1.0//EN
CALSCALE:GREGORIAN
METHOD:PUBLISH
X-WR-CALNAME:Klimaat Kwartet
X-ORIGINAL-URL:https://klimaatkwartet.nl
X-WR-CALDESC:Events for Klimaat Kwartet
BEGIN:VTIMEZONE
TZID:UTC
BEGIN:STANDARD
TZOFFSETFROM:+0000
TZOFFSETTO:+0000
TZNAME:UTC
DTSTART:20210101T000000
END:STANDARD
END:VTIMEZONE
BEGIN:VEVENT
DTSTART;TZID=UTC:20211030T080000
DTEND;TZID=UTC:20211030T170000
DTSTAMP:20260422T102643
CREATED:20181223T192210Z
LAST-MODIFIED:20210613T152818Z
UID:732-1635580800-1635613200@klimaatkwartet.nl
SUMMARY:Nacht van de nacht
DESCRIPTION:In Nederland wordt op 30 oktober de Nacht van de Nacht gehouden. Deze nacht bestaat om aandacht te vragen voor het onderwerp ‘lichtvervuiling’. \nInternationaal wordt er in april een International Dark Sky Week gehouden. In 2021 werd deze week gehouden van 5 t/m 12 april. \nBron: International Dark Sky Week\n
URL:https://klimaatkwartet.nl/event/internationale-donkere-lucht-dag/
ATTACH;FMTTYPE=image/png:https://klimaatkwartet.nl/wp-content/uploads/2018/12/Schermafbeelding-2021-06-13-om-17.27.57.png
END:VEVENT
END:VCALENDAR