BEGIN:VCALENDAR
VERSION:2.0
PRODID:-//Klimaat Kwartet - ECPv4.9.13//NONSGML v1.0//EN
CALSCALE:GREGORIAN
METHOD:PUBLISH
X-WR-CALNAME:Klimaat Kwartet
X-ORIGINAL-URL:https://klimaatkwartet.nl
X-WR-CALDESC:Events for Klimaat Kwartet
BEGIN:VTIMEZONE
TZID:UTC
BEGIN:STANDARD
TZOFFSETFROM:+0000
TZOFFSETTO:+0000
TZNAME:UTC
DTSTART:20190101T000000
END:STANDARD
END:VTIMEZONE
BEGIN:VEVENT
DTSTART;TZID=UTC:20190902T080000
DTEND;TZID=UTC:20190908T170000
DTSTAMP:20260422T120420
CREATED:20181223T162239Z
LAST-MODIFIED:20181223T162417Z
UID:721-1567411200-1567962000@klimaatkwartet.nl
SUMMARY:Europese Batterij Recycle Week
DESCRIPTION:Van maandag 2 tot en met zondag 8 september 2019 staat een week lang het recyclen van batterijen centraal. Deze week wordt sinds 2015 gehouden om aandacht te vragen voor het inleveren van batterijen. Er zijn ongeveer 24.000 inleverpunten in Nederland waar je je lege batterijen kunt inleveren: overal waar je batterijen kunt kopen\, kun je ze ook weer inleveren! \nBron: Stibat (Nederlands)\nMeer weten over lege batterijen? Kijk op: legebatterijen.nl\n  \n
URL:https://klimaatkwartet.nl/event/europese-batterij-recycle-week/
ATTACH;FMTTYPE=image/png:https://klimaatkwartet.nl/wp-content/uploads/2018/12/EBRW-Logo-2018-300x159.png
END:VEVENT
END:VCALENDAR