BEGIN:VCALENDAR
VERSION:2.0
PRODID:-//Klimaat Kwartet - ECPv4.9.13//NONSGML v1.0//EN
CALSCALE:GREGORIAN
METHOD:PUBLISH
X-WR-CALNAME:Klimaat Kwartet
X-ORIGINAL-URL:https://klimaatkwartet.nl
X-WR-CALDESC:Events for Klimaat Kwartet
BEGIN:VTIMEZONE
TZID:UTC
BEGIN:STANDARD
TZOFFSETFROM:+0000
TZOFFSETTO:+0000
TZNAME:UTC
DTSTART:20220101T000000
END:STANDARD
END:VTIMEZONE
BEGIN:VEVENT
DTSTART;TZID=UTC:20220326T203000
DTEND;TZID=UTC:20220326T213000
DTSTAMP:20260422T102245
CREATED:20181220T165734Z
LAST-MODIFIED:20210613T153909Z
UID:539-1648326600-1648330200@klimaatkwartet.nl
SUMMARY:Earth Hour
DESCRIPTION:Earth Hour is 1 uur waarin iedereen energie bespaart. De bedoeling is om met zoveel mogelijk mensen mee te doen: om verlichting en andere elektrische apparatuur in huis (zoals tv\, wasmachine\, vaatwasser\, etc) voor 1 uur uit te doen. Dit evenement vindt elk jaar rond eind maart plaats. In het weekend waarin de zomertijd ingaat. Deze dag is een initiatief van het Wereld Natuur Fonds. \nNatuurlijk is het goed om altijd zuinig aan te doen; dit evenement doet ons daar nog eens extra bij stilstaan. \nBron: earthhour.org (engels)\n  \n  \n
URL:https://klimaatkwartet.nl/event/earth-hour/
ATTACH;FMTTYPE=image/png:https://klimaatkwartet.nl/wp-content/uploads/2018/12/Schermafbeelding-2018-12-20-om-18.48.20.png
END:VEVENT
END:VCALENDAR